BEGIN:VCALENDAR
VERSION:2.0
PRODID:-//Tukios.com/
BEGIN:VEVENT
UID:9e63f817-8175-4366-9066-8fee3b6436b5@www.buelermortuary.com
DTSTAMP:20260422T024940Z
DTSTART:20260502T170000Z
DTEND:20260502T180000Z
SUMMARY:Funeral Service
DESCRIPTION:
URL:https://www.buelermortuary.com/obituaries/kathryn-clark-lambson
LOCATION:The Church of Jesus Christ of Latter-day Saints 800 W Chandler 
	Heights Rd  Chandler AZ 85248
GEO:33.2335739;-111.8533695
END:VEVENT
END:VCALENDAR