BEGIN:VCALENDAR
VERSION:2.0
PRODID:-//Tukios.com/
BEGIN:VEVENT
UID:4ba76368-7237-4fc6-a288-0a0e990bd702@www.buelermortuary.com
DTSTAMP:20260422T024521Z
DTSTART:20260502T160000Z
DTEND:20260502T170000Z
SUMMARY:Visitation
DESCRIPTION:
URL:https://www.buelermortuary.com/obituaries/kathryn-clark-lambson
LOCATION: 800 W Chandler Heights Rd  Chandler AZ 85248
GEO:33.2335739;-111.8533695
END:VEVENT
END:VCALENDAR