BEGIN:VCALENDAR
VERSION:2.0
PRODID:-//Tukios.com/
BEGIN:VEVENT
UID:234120fd-0e3f-4b09-9973-eb04438c9473@www.buelermortuary.com
DTSTAMP:20260422T025006Z
DTSTART:20260502
SUMMARY:Interment
DESCRIPTION:
URL:https://www.buelermortuary.com/obituaries/kathryn-clark-lambson
LOCATION: 22425 E Cloud Rd  Queen Creek AZ 85142
GEO:33.2266896;-111.5982767
END:VEVENT
END:VCALENDAR