BEGIN:VCALENDAR
VERSION:2.0
PRODID:-//Tukios.com/
BEGIN:VEVENT
UID:76443bbb-94b1-44ff-b870-cd7595fa54a9@www.buelermortuary.com
DTSTAMP:20260422T233307Z
DTSTART:20260428T160000Z
DTEND:20260428T170000Z
SUMMARY:Visitation
DESCRIPTION:
URL:https://www.buelermortuary.com/obituaries/timothy-ethington
LOCATION: 3770 S Cooper Rd  Gilbert AZ 85249
GEO:33.2511596;-111.8074777
END:VEVENT
END:VCALENDAR