BEGIN:VCALENDAR
VERSION:2.0
PRODID:-//Tukios.com/
BEGIN:VEVENT
UID:d061b337-85b8-4484-ae32-4ead427b75c7@www.buelermortuary.com
DTSTAMP:20260422T233141Z
DTSTART:20260428T170000Z
DTEND:20260428T180000Z
SUMMARY:Funeral Service
DESCRIPTION:
URL:https://www.buelermortuary.com/obituaries/timothy-ethington
LOCATION: 3770 S Cooper Rd  Gilbert AZ 85249
GEO:33.2511596;-111.8074777
END:VEVENT
END:VCALENDAR