BEGIN:VCALENDAR
VERSION:2.0
PRODID:-//Tukios.com/
BEGIN:VEVENT
UID:5015547a-127c-4c6b-b886-dd3e3d91f1d7@www.buelermortuary.com
DTSTAMP:20260422T233555Z
DTSTART:20260428
SUMMARY:Interment
DESCRIPTION:
URL:https://www.buelermortuary.com/obituaries/timothy-ethington
LOCATION: 1212 N Center St  Mesa AZ 85201
GEO:33.4380731;-111.8352463
END:VEVENT
END:VCALENDAR